BEGIN:VCALENDAR
VERSION:2.0
PRODID:icalendar-ruby
CALSCALE:GREGORIAN
BEGIN:VEVENT
DTSTAMP:20260424T212900Z
UID:9aec02d6-831e-42dd-b5cd-44febd5ba360
DTSTART;VALUE=DATE:20210218
DESCRIPTION:Property ID# 500817\, Locatoin: 62 Queen Street\, Upper Hutt\, 
 Time: 2:00PM
SUMMARY:Auction for 
END:VEVENT
END:VCALENDAR
