BEGIN:VCALENDAR
VERSION:2.0
PRODID:icalendar-ruby
CALSCALE:GREGORIAN
BEGIN:VEVENT
DTSTAMP:20260424T212900Z
UID:1aebd315-ce58-42c6-849a-365ad481aece
DTSTART;VALUE=DATE:20201125
DESCRIPTION:Property ID# 494743\, Locatoin: 62 Queen Street\, Upper Hutt\, 
 Time: 2:00PM
SUMMARY:Auction for 
END:VEVENT
END:VCALENDAR
